BEGIN:VCALENDAR
VERSION:2.0
PRODID:-//Tax &amp; Audit Club Stuttgart - ECPv6.15.20//NONSGML v1.0//EN
CALSCALE:GREGORIAN
METHOD:PUBLISH
X-WR-CALNAME:Tax &amp; Audit Club Stuttgart
X-ORIGINAL-URL:https://taxandaudit.club
X-WR-CALDESC:Veranstaltungen für Tax &amp; Audit Club Stuttgart
REFRESH-INTERVAL;VALUE=DURATION:PT1H
X-Robots-Tag:noindex
X-PUBLISHED-TTL:PT1H
BEGIN:VTIMEZONE
TZID:Europe/Berlin
BEGIN:DAYLIGHT
TZOFFSETFROM:+0100
TZOFFSETTO:+0200
TZNAME:CEST
DTSTART:20240331T010000
END:DAYLIGHT
BEGIN:STANDARD
TZOFFSETFROM:+0200
TZOFFSETTO:+0100
TZNAME:CET
DTSTART:20241027T010000
END:STANDARD
BEGIN:DAYLIGHT
TZOFFSETFROM:+0100
TZOFFSETTO:+0200
TZNAME:CEST
DTSTART:20250330T010000
END:DAYLIGHT
BEGIN:STANDARD
TZOFFSETFROM:+0200
TZOFFSETTO:+0100
TZNAME:CET
DTSTART:20251026T010000
END:STANDARD
BEGIN:DAYLIGHT
TZOFFSETFROM:+0100
TZOFFSETTO:+0200
TZNAME:CEST
DTSTART:20260329T010000
END:DAYLIGHT
BEGIN:STANDARD
TZOFFSETFROM:+0200
TZOFFSETTO:+0100
TZNAME:CET
DTSTART:20261025T010000
END:STANDARD
END:VTIMEZONE
BEGIN:VEVENT
DTSTART;TZID=Europe/Berlin:20251112T180000
DTEND;TZID=Europe/Berlin:20251112T200000
DTSTAMP:20260425T124100
CREATED:20251020T223027Z
LAST-MODIFIED:20251112T054338Z
UID:2647-1762970400-1762977600@taxandaudit.club
SUMMARY:TAC X LFK PARTNER - Phasen eines M&A-Prozesses (Villingen-Schwenningen)
DESCRIPTION:TAC X LFK PARTNER – Phasen eines M&A-Prozesses. Von der Idee bis zum Closing. 🤝📈 \nWie läuft ein typischer M&A-Prozess ab? Welche Phasen durchläuft ein Unternehmen von der ersten Überlegung bis zum erfolgreichen Abschluss – und worauf kommt es in der Praxis wirklich an? \nDaniel Hartmann (WP)\, Dozent an der DHBW und Mitglied des IHK-Arbeitskreises „Nachfolge“\, gibt einen spannenden Einblick in die Welt der Transaktionen. Bei LFK PARTNER verantwortet er zahlreiche M&A-Prozesse und zeigt\, welche Herausforderungen und Erfolgsfaktoren in jeder Phase eine Rolle spielen. \nEin praxisnaher Vortrag mit wertvollen Einblicken\, ideal für alle\, die den Mittelstand und seine Transaktionen besser verstehen wollen. \nIm Anschluss laden wir euch herzlich zu einem entspannten Get-together mit Catering ein\, eine perfekte Gelegenheit für Austausch und Networking in lockerer Atmosphäre. 🍽️🤝 \n📅 Mittwoch\, 12. November 2025⏰ 18:00 – 20:00 Uhr📍 LFK PARTNER\, Rottweiler Str. 98\, 78056 Villingen-Schwenningen. Kostenfreie Parkmöglichkeiten stehen direkt vor Ort zur Verfügung. \n👉 Jetzt anmelden und praxisnahe Einblicke in den M&A-Prozess gewinnen! \nWir freuen uns auf einen spannenden Abend mit euch! 😊
URL:https://taxandaudit.club/event/lfk_11_25
LOCATION:Baden-Württemberg
END:VEVENT
BEGIN:VEVENT
DTSTART;TZID=Europe/Berlin:20251113T183000
DTEND;TZID=Europe/Berlin:20251113T203000
DTSTAMP:20260425T124100
CREATED:20250514T172252Z
LAST-MODIFIED:20251112T054228Z
UID:2286-1763058600-1763065800@taxandaudit.club
SUMMARY:TAC X BW PARTNER - Mehr als Checklisten. Prüfungsnahe Beratung im Mittelstand – lösungsorientiert\, praxisnah\, relevant (Stuttgart)
DESCRIPTION:TAC X BW PARTNER – Mehr als Checklisten. Prüfungsnahe Beratung im Mittelstand – lösungsorientiert\, praxisnah\, relevant 🧩📊 \nWie sieht moderne\, prüfungsnahe Beratung im Mittelstand aus? Welche Herausforderungen begegnen Unternehmen heute – und mit welchen praxiserprobten Ansätzen lassen sich passende Lösungen entwickeln? \nTorsten Grauer (Partner\, WP)\, Janko Franke (Partner\, WP/StB) und Markus Schwarzkopf (Partner\, WP/StB) von BW PARTNER geben spannende Einblicke in ihre Beratungspraxis und zeigen auf\, wie mittelständische Unternehmen gezielt und effizient unterstützt werden können – nah an den Mandanten\, nah an der Prüfung. \nIm Anschluss laden wir euch zu einem entspannten Get-together mit Catering ein – eine ideale Gelegenheit für Networking und Austausch. 🍽️🤝 \n📅 Donnerstag\, 13. November 2025⏰ Start um 18:30 Uhr📍 BW PARTNER\, Hauptstraße 41\, 70563 Stuttgart. Kostenfreie Parkmöglichkeiten stehen direkt vor Ort zur Verfügung – dank hauseigenem Parkhaus und Entwertung des Parktickets im Rahmen der Veranstaltung \n👉 Jetzt anmelden und praxisnahe Einblicke gewinnen! \nWir freuen uns auf einen erkenntnisreichen Abend mit euch! 😊
URL:https://taxandaudit.club/event/bwp_11-25
LOCATION:BW Partner
END:VEVENT
END:VCALENDAR