BEGIN:VCALENDAR
VERSION:2.0
PRODID:-//Tax &amp; Audit Club Stuttgart - ECPv6.15.20//NONSGML v1.0//EN
CALSCALE:GREGORIAN
METHOD:PUBLISH
X-ORIGINAL-URL:https://taxandaudit.club
X-WR-CALDESC:Veranstaltungen für Tax &amp; Audit Club Stuttgart
REFRESH-INTERVAL;VALUE=DURATION:PT1H
X-Robots-Tag:noindex
X-PUBLISHED-TTL:PT1H
BEGIN:VTIMEZONE
TZID:Europe/Berlin
BEGIN:DAYLIGHT
TZOFFSETFROM:+0100
TZOFFSETTO:+0200
TZNAME:CEST
DTSTART:20240331T010000
END:DAYLIGHT
BEGIN:STANDARD
TZOFFSETFROM:+0200
TZOFFSETTO:+0100
TZNAME:CET
DTSTART:20241027T010000
END:STANDARD
BEGIN:DAYLIGHT
TZOFFSETFROM:+0100
TZOFFSETTO:+0200
TZNAME:CEST
DTSTART:20250330T010000
END:DAYLIGHT
BEGIN:STANDARD
TZOFFSETFROM:+0200
TZOFFSETTO:+0100
TZNAME:CET
DTSTART:20251026T010000
END:STANDARD
BEGIN:DAYLIGHT
TZOFFSETFROM:+0100
TZOFFSETTO:+0200
TZNAME:CEST
DTSTART:20260329T010000
END:DAYLIGHT
BEGIN:STANDARD
TZOFFSETFROM:+0200
TZOFFSETTO:+0100
TZNAME:CET
DTSTART:20261025T010000
END:STANDARD
END:VTIMEZONE
BEGIN:VEVENT
DTSTART;TZID=Europe/Berlin:20250918T183000
DTEND;TZID=Europe/Berlin:20250918T203000
DTSTAMP:20260425T155903
CREATED:20250418T120832Z
LAST-MODIFIED:20250917T202430Z
UID:2158-1758220200-1758227400@taxandaudit.club
SUMMARY:TAC x EY – ESG im Faktencheck: Wie die Omnibusverordnung die Spielregeln ändert
DESCRIPTION:TAC x EY – ESG im Faktencheck: Wie die Omnibusverordnung die Spielregeln ändert 🌍📊 \nWas steckt wirklich hinter der Omnibusverordnung – und wie beeinflusst sie die ESG-Berichterstattung in der Praxis? Welche regulatorischen Veränderungen kommen auf Unternehmen zu\, und worauf sollten sich Verantwortliche jetzt vorbereiten? \nTatjana Wolf – Managerin (WP/StB) im Audit bei EY – und Luisa Gulden – Senior Consultant Climate Change and Sustainability Services – geben einen fundierten Überblick über die aktuellen Entwicklungen rund um ESG und ordnen ein\, was die neuen Vorgaben für Prüfung\, Beratung und Unternehmenspraxis bedeuten. \nIm Anschluss laden wir euch herzlich zu einem Get-together mit Catering ein – ideal für Networking und den Austausch über Nachhaltigkeit\, Regulierung und Best Practices. 🥂🤝 \nFalls du kurzfristig nicht teilnehmen kannst\, gib uns bitte kurz per Mail an info@taxandaudit.club Bescheid\, da die Plätze begrenzt sind. \n📅 Donnerstag\, 18. September 2025⏰ Start um 18:30 Uhr📍 Ernst & Young\, Flughafenstraße 61\, 70629 Stuttgart \n👉 Jetzt anmelden und praxisnahe Insights zur ESG-Regulatorik sichern! \nWir freuen uns auf einen erkenntnisreichen Abend mit euch! 😊
URL:https://taxandaudit.club/event/ey_09-25
LOCATION:Baden-Württemberg
END:VEVENT
END:VCALENDAR