BEGIN:VCALENDAR
VERSION:2.0
PRODID:-//Tax &amp; Audit Club Stuttgart - ECPv6.15.20//NONSGML v1.0//EN
CALSCALE:GREGORIAN
METHOD:PUBLISH
X-ORIGINAL-URL:https://taxandaudit.club
X-WR-CALDESC:Veranstaltungen für Tax &amp; Audit Club Stuttgart
REFRESH-INTERVAL;VALUE=DURATION:PT1H
X-Robots-Tag:noindex
X-PUBLISHED-TTL:PT1H
BEGIN:VTIMEZONE
TZID:Europe/Berlin
BEGIN:DAYLIGHT
TZOFFSETFROM:+0100
TZOFFSETTO:+0200
TZNAME:CEST
DTSTART:20240331T010000
END:DAYLIGHT
BEGIN:STANDARD
TZOFFSETFROM:+0200
TZOFFSETTO:+0100
TZNAME:CET
DTSTART:20241027T010000
END:STANDARD
BEGIN:DAYLIGHT
TZOFFSETFROM:+0100
TZOFFSETTO:+0200
TZNAME:CEST
DTSTART:20250330T010000
END:DAYLIGHT
BEGIN:STANDARD
TZOFFSETFROM:+0200
TZOFFSETTO:+0100
TZNAME:CET
DTSTART:20251026T010000
END:STANDARD
BEGIN:DAYLIGHT
TZOFFSETFROM:+0100
TZOFFSETTO:+0200
TZNAME:CEST
DTSTART:20260329T010000
END:DAYLIGHT
BEGIN:STANDARD
TZOFFSETFROM:+0200
TZOFFSETTO:+0100
TZNAME:CET
DTSTART:20261025T010000
END:STANDARD
END:VTIMEZONE
BEGIN:VEVENT
DTSTART;TZID=Europe/Berlin:20250715T183000
DTEND;TZID=Europe/Berlin:20250715T203000
DTSTAMP:20260425T192420
CREATED:20250318T203948Z
LAST-MODIFIED:20250624T185437Z
UID:2078-1752604200-1752611400@taxandaudit.club
SUMMARY:TAC X WTS - Steuerberatung der Zukunft / KI
DESCRIPTION:TAC x WTS – Steuerberatung der Zukunft / KI 🤖📊 \nWie wird Künstliche Intelligenz die Steuerberatung in den kommenden Jahren prägen? Welche digitalen Lösungen gibt es bereits\, und welche Herausforderungen sowie Chancen entstehen durch den technologischen Wandel? \nDaniel Ak (Director Digital Tax) und Thomas Hoppe (Director Global AI) von WTS geben spannende Einblicke in die Zukunft der Steuerberatung und zeigen auf\, wie sowohl Unternehmen als auch Steuerberater KI gezielt nutzen können\, um Prozesse zu optimieren und neue Potenziale zu erschließen. \nIm Anschluss laden wir euch zu einem entspannten Get-together mit Catering ein – eine ideale Gelegenheit für Networking und Austausch. 🍽️🤝 \n📅 Dienstag\, 15. Juli 2025⏰ Start um 18:30 Uhr📍 WTS Office Stuttgart (5. Stock)\, Königstraße 27\, 70173 Stuttgart  \n👉 Jetzt anmelden und die Zukunft der Steuerberatung mitgestalten! \nWir freuen uns auf einen inspirierenden Abend mit euch! 😊
URL:https://taxandaudit.club/event/wts07-25
LOCATION:WTS
END:VEVENT
END:VCALENDAR