BEGIN:VCALENDAR
VERSION:2.0
PRODID:-//Tax &amp; Audit Club Stuttgart - ECPv6.15.20//NONSGML v1.0//EN
CALSCALE:GREGORIAN
METHOD:PUBLISH
X-ORIGINAL-URL:https://taxandaudit.club
X-WR-CALDESC:Veranstaltungen für Tax &amp; Audit Club Stuttgart
REFRESH-INTERVAL;VALUE=DURATION:PT1H
X-Robots-Tag:noindex
X-PUBLISHED-TTL:PT1H
BEGIN:VTIMEZONE
TZID:Europe/Berlin
BEGIN:DAYLIGHT
TZOFFSETFROM:+0100
TZOFFSETTO:+0200
TZNAME:CEST
DTSTART:20240331T010000
END:DAYLIGHT
BEGIN:STANDARD
TZOFFSETFROM:+0200
TZOFFSETTO:+0100
TZNAME:CET
DTSTART:20241027T010000
END:STANDARD
BEGIN:DAYLIGHT
TZOFFSETFROM:+0100
TZOFFSETTO:+0200
TZNAME:CEST
DTSTART:20250330T010000
END:DAYLIGHT
BEGIN:STANDARD
TZOFFSETFROM:+0200
TZOFFSETTO:+0100
TZNAME:CET
DTSTART:20251026T010000
END:STANDARD
BEGIN:DAYLIGHT
TZOFFSETFROM:+0100
TZOFFSETTO:+0200
TZNAME:CEST
DTSTART:20260329T010000
END:DAYLIGHT
BEGIN:STANDARD
TZOFFSETFROM:+0200
TZOFFSETTO:+0100
TZNAME:CET
DTSTART:20261025T010000
END:STANDARD
END:VTIMEZONE
BEGIN:VEVENT
DTSTART;TZID=Europe/Berlin:20250205T190000
DTEND;TZID=Europe/Berlin:20250205T203000
DTSTAMP:20260426T030532
CREATED:20240911T174317Z
LAST-MODIFIED:20240911T174317Z
UID:1748-1738782000-1738787400@taxandaudit.club
SUMMARY:TAC x Clairfield - Unternehmenstransaktionen und Unternehmenswert
DESCRIPTION:
URL:https://taxandaudit.club/event/clairfield
LOCATION:Clairfield
END:VEVENT
END:VCALENDAR