BEGIN:VCALENDAR
VERSION:2.0
PRODID:-//Tax &amp; Audit Club Stuttgart - ECPv6.15.20//NONSGML v1.0//EN
CALSCALE:GREGORIAN
METHOD:PUBLISH
X-ORIGINAL-URL:https://taxandaudit.club
X-WR-CALDESC:Veranstaltungen für Tax &amp; Audit Club Stuttgart
REFRESH-INTERVAL;VALUE=DURATION:PT1H
X-Robots-Tag:noindex
X-PUBLISHED-TTL:PT1H
BEGIN:VTIMEZONE
TZID:Europe/Berlin
BEGIN:DAYLIGHT
TZOFFSETFROM:+0100
TZOFFSETTO:+0200
TZNAME:CEST
DTSTART:20240331T010000
END:DAYLIGHT
BEGIN:STANDARD
TZOFFSETFROM:+0200
TZOFFSETTO:+0100
TZNAME:CET
DTSTART:20241027T010000
END:STANDARD
BEGIN:DAYLIGHT
TZOFFSETFROM:+0100
TZOFFSETTO:+0200
TZNAME:CEST
DTSTART:20250330T010000
END:DAYLIGHT
BEGIN:STANDARD
TZOFFSETFROM:+0200
TZOFFSETTO:+0100
TZNAME:CET
DTSTART:20251026T010000
END:STANDARD
BEGIN:DAYLIGHT
TZOFFSETFROM:+0100
TZOFFSETTO:+0200
TZNAME:CEST
DTSTART:20260329T010000
END:DAYLIGHT
BEGIN:STANDARD
TZOFFSETFROM:+0200
TZOFFSETTO:+0100
TZNAME:CET
DTSTART:20261025T010000
END:STANDARD
END:VTIMEZONE
BEGIN:VEVENT
DTSTART;TZID=Europe/Berlin:20250108T180000
DTEND;TZID=Europe/Berlin:20250108T203000
DTSTAMP:20260426T044439
CREATED:20241026T122859Z
LAST-MODIFIED:20250106T232710Z
UID:1825-1736359200-1736368200@taxandaudit.club
SUMMARY:TAC x Menold Bezler - Besteuerung von Influencern - Steuerparadies Dubai?
DESCRIPTION:
URL:https://taxandaudit.club/event/tac-x-menold-bezler-besteuerung-von-influencern-steuerparadies-dubai
LOCATION:Menold Bezler
END:VEVENT
BEGIN:VEVENT
DTSTART;TZID=Europe/Berlin:20250123T183000
DTEND;TZID=Europe/Berlin:20250123T210000
DTSTAMP:20260426T044439
CREATED:20241026T123256Z
LAST-MODIFIED:20250104T084754Z
UID:1830-1737657000-1737666000@taxandaudit.club
SUMMARY:TAC x BWPartner - Steuergestaltung im Mittelstand: Praxisnahe Einblicke und Diskussion
DESCRIPTION:Steuergestaltung im Mittelstand – Praxisnahe Einblicke und Diskussion 💼🏢 \nWie lassen sich Steuern im Mittelstand optimal gestalten? Welche Strategien funktionieren in der Praxis\, und welche Stolperfallen sollte man vermeiden? \nMarc Zeitzschel\, Partner bei BW PARTNER\, teilt spannende Einblicke und Best Practices für den Mittelstand. \nNach dem Vortrag lädt ein lockeres Get-together mit Catering dazu ein\, in entspannter Atmosphäre zu networken und sich auszutauschen. 😌 \n📅 Donnerstag\, 23. Januar 2025\n⏰ Start um 18:30 Uhr\n📍 BW PARTNER (Adresse folgt noch) \n👉 Sichere dir jetzt deinen Platz mit dem Button unten. \nWir freuen uns auf einen interessanten Abend mit euch! 🤝
URL:https://taxandaudit.club/event/bwpartner
LOCATION:BW Partner
END:VEVENT
END:VCALENDAR