BEGIN:VCALENDAR
VERSION:2.0
PRODID:-//Tax &amp; Audit Club Stuttgart - ECPv6.15.20//NONSGML v1.0//EN
CALSCALE:GREGORIAN
METHOD:PUBLISH
X-ORIGINAL-URL:https://taxandaudit.club
X-WR-CALDESC:Veranstaltungen für Tax &amp; Audit Club Stuttgart
REFRESH-INTERVAL;VALUE=DURATION:PT1H
X-Robots-Tag:noindex
X-PUBLISHED-TTL:PT1H
BEGIN:VTIMEZONE
TZID:Europe/Berlin
BEGIN:DAYLIGHT
TZOFFSETFROM:+0100
TZOFFSETTO:+0200
TZNAME:CEST
DTSTART:20230326T010000
END:DAYLIGHT
BEGIN:STANDARD
TZOFFSETFROM:+0200
TZOFFSETTO:+0100
TZNAME:CET
DTSTART:20231029T010000
END:STANDARD
BEGIN:DAYLIGHT
TZOFFSETFROM:+0100
TZOFFSETTO:+0200
TZNAME:CEST
DTSTART:20240331T010000
END:DAYLIGHT
BEGIN:STANDARD
TZOFFSETFROM:+0200
TZOFFSETTO:+0100
TZNAME:CET
DTSTART:20241027T010000
END:STANDARD
BEGIN:DAYLIGHT
TZOFFSETFROM:+0100
TZOFFSETTO:+0200
TZNAME:CEST
DTSTART:20250330T010000
END:DAYLIGHT
BEGIN:STANDARD
TZOFFSETFROM:+0200
TZOFFSETTO:+0100
TZNAME:CET
DTSTART:20251026T010000
END:STANDARD
END:VTIMEZONE
BEGIN:VEVENT
DTSTART;TZID=Europe/Berlin:20241205T200000
DTEND;TZID=Europe/Berlin:20241205T203000
DTSTAMP:20260426T061406
CREATED:20241019T115023Z
LAST-MODIFIED:20241103T173127Z
UID:1814-1733428800-1733430600@taxandaudit.club
SUMMARY:außerordentliche Mitgliederversammlung
DESCRIPTION:Liebes Mitglied\, \nunsere diesjährige außerordentliche Mitgliederversammlung findet am 16. November 2024 um 20:00 \nUhr via Teams statt. \n  \nAuf der Tagesordnung stehen folgende Themen: \n1. Begrüßung \n2. Feststellung der ordnungsgemäßen Einberufung und der Beschlussfähigkeit der \nMitgliederversammlung \n3. Wahl des Protokollanten \n4. Wahl des Versammlungsleiters \n5. Änderung der Satzung: Änderung des § 5 Absatz I der Satzung mit folgendem neuen Wortlaut: \n„Der Vorstand besteht aus mindestens einer Person. Alle Personen\, die zum Vorstand ernannt werden\, gelten als \nMitglieder des Vorstands des Vereins und sind in ihrer Position gleichgestellt. Die Vorstände verantworten jeweils \nZuständigkeitsbereiche innerhalb des Vereins. Weitere Vorstände können durch die Mitgliederversammlung bestimmt \nwerden. Die Vorstandsmitglieder sind generell öffentlich und in getrennten Wahlgängen mit einfacher Mehrheit zu \nwählen. Auf Antrag eines anwesenden Mitglieds sind die jeweiligen Vorstandspositionen geheim zu wählen.“ \n6. Sonstiges \nAnträge auf Ergänzungen der Tagesordnung müssen bis eine Woche vor der Versammlung \nschriftlich beim Vorstand eingereicht werden\, damit der Vorstand sie noch auf die Tagesordnung \nsetzen kann. \nBitte beachte\, dass die Teilnahme nur nach vorheriger schriftlicher Anmeldung (Anmeldung über \nWebsite) beim Vorstand möglich ist. \nMit freundlichen Grüßen \nEuer Vorstand
URL:https://taxandaudit.club/event/mv
LOCATION:Online
END:VEVENT
END:VCALENDAR